Package: LipidTrend Version: 1.0.0 Command: /home/biocbuild/bbs-3.22-bioc/R/bin/R CMD build --keep-empty-dirs --no-resave-data --md5 LipidTrend StartedAt: 2025-11-09 18:27:33 -0500 (Sun, 09 Nov 2025) EndedAt: 2025-11-09 18:28:15 -0500 (Sun, 09 Nov 2025) EllapsedTime: 42.0 seconds RetCode: 0 Status: OK PackageFile: LipidTrend_1.0.0.tar.gz PackageFileSize: 767.7 KiB