Package: LipidTrend Version: 1.0.0 Command: /Library/Frameworks/R.framework/Resources/bin/R CMD build --keep-empty-dirs --no-resave-data LipidTrend StartedAt: 2025-11-03 17:33:51 -0500 (Mon, 03 Nov 2025) EndedAt: 2025-11-03 17:34:39 -0500 (Mon, 03 Nov 2025) EllapsedTime: 48.0 seconds RetCode: 0 Status: OK PackageFile: LipidTrend_1.0.0.tar.gz PackageFileSize: 791.6 KiB