Package: LipidTrend Version: 1.0.0 Command: rm -rf LipidTrend.buildbin-libdir && mkdir LipidTrend.buildbin-libdir && /Users/biocbuild/BBS/utils/build-universal.sh LipidTrend_1.0.0.tar.gz /Library/Frameworks/R.framework/Resources/bin/R LipidTrend.buildbin-libdir StartedAt: 2025-11-04 01:47:17 -0500 (Tue, 04 Nov 2025) EndedAt: 2025-11-04 01:47:56 -0500 (Tue, 04 Nov 2025) EllapsedTime: 38.6 seconds RetCode: 0 Status: OK PackageFile: LipidTrend_1.0.0.tgz PackageFileSize: 1.045 MiB