Package: Linnorm Version: 2.34.0 Command: /home/biocbuild/R/R/bin/R CMD INSTALL Linnorm StartedAt: 2025-11-17 21:15:38 -0000 (Mon, 17 Nov 2025) EndedAt: 2025-11-17 21:16:32 -0000 (Mon, 17 Nov 2025) EllapsedTime: 53.2 seconds RetCode: 0 Status: OK