Package: Linnorm Version: 2.34.0 Command: /home/biocbuild/R/R/bin/R CMD build --keep-empty-dirs --no-resave-data Linnorm StartedAt: 2025-11-21 03:30:40 -0000 (Fri, 21 Nov 2025) EndedAt: 2025-11-21 03:36:16 -0000 (Fri, 21 Nov 2025) EllapsedTime: 336.1 seconds RetCode: 0 Status: OK PackageFile: Linnorm_2.34.0.tar.gz PackageFileSize: 4.099 MiB