Package: Linnorm Version: 2.33.0 Command: F:\biocbuild\bbs-3.22-bioc\R\bin\R.exe CMD check --no-multiarch --install=check:Linnorm.install-out.txt --library=F:\biocbuild\bbs-3.22-bioc\R\library --no-vignettes --timings Linnorm_2.33.0.tar.gz StartedAt: 2025-08-15 04:37:38 -0400 (Fri, 15 Aug 2025) EndedAt: 2025-08-15 04:45:20 -0400 (Fri, 15 Aug 2025) EllapsedTime: 462.5 seconds RetCode: 0 Status: OK CheckDir: Linnorm.Rcheck Warnings: 0