Package: Linnorm Version: 2.33.0 Command: chmod a+r Linnorm -R && F:\biocbuild\bbs-3.22-bioc\R\bin\R.exe CMD build --keep-empty-dirs --no-resave-data Linnorm StartedAt: 2025-08-14 21:08:05 -0400 (Thu, 14 Aug 2025) EndedAt: 2025-08-14 21:14:03 -0400 (Thu, 14 Aug 2025) EllapsedTime: 358.1 seconds RetCode: 0 Status: OK PackageFile: Linnorm_2.33.0.tar.gz PackageFileSize: 4.113 MiB