Package: Linnorm Version: 2.33.0 Command: rm -rf Linnorm.buildbin-libdir && mkdir Linnorm.buildbin-libdir && F:\biocbuild\bbs-3.22-bioc\R\bin\R.exe CMD INSTALL --build --library=Linnorm.buildbin-libdir Linnorm_2.33.0.tar.gz StartedAt: 2025-08-15 10:35:20 -0400 (Fri, 15 Aug 2025) EndedAt: 2025-08-15 10:36:04 -0400 (Fri, 15 Aug 2025) EllapsedTime: 43.8 seconds RetCode: 0 Status: OK PackageFile: Linnorm_2.33.0.zip PackageFileSize: 4.631 MiB