Package: Linnorm Version: 2.34.0 Command: /home/biocbuild/bbs-3.22-bioc/R/bin/R CMD INSTALL Linnorm StartedAt: 2025-11-14 15:12:03 -0500 (Fri, 14 Nov 2025) EndedAt: 2025-11-14 15:12:27 -0500 (Fri, 14 Nov 2025) EllapsedTime: 24.4 seconds RetCode: 0 Status: OK