Package: Linnorm Version: 2.34.0 Command: /home/biocbuild/bbs-3.22-bioc/R/bin/R CMD check --install=check:Linnorm.install-out.txt --library=/home/biocbuild/bbs-3.22-bioc/R/site-library --timings Linnorm_2.34.0.tar.gz StartedAt: 2025-11-15 01:07:19 -0500 (Sat, 15 Nov 2025) EndedAt: 2025-11-15 01:17:16 -0500 (Sat, 15 Nov 2025) EllapsedTime: 596.8 seconds RetCode: 0 Status: OK CheckDir: Linnorm.Rcheck Warnings: 0