Package: LinTInd Version: 1.12.0 Command: rm -rf LinTInd.buildbin-libdir && mkdir LinTInd.buildbin-libdir && E:\biocbuild\bbs-3.21-bioc\R\bin\R.exe CMD INSTALL --build --library=LinTInd.buildbin-libdir LinTInd_1.12.0.tar.gz StartedAt: 2025-08-15 09:35:52 -0400 (Fri, 15 Aug 2025) EndedAt: 2025-08-15 09:36:28 -0400 (Fri, 15 Aug 2025) EllapsedTime: 35.9 seconds RetCode: 0 Status: OK PackageFile: LinTInd_1.12.0.zip PackageFileSize: 577.7 KiB