Package: LimROTS Version: 1.2.0 Command: /Library/Frameworks/R.framework/Resources/bin/R CMD build --keep-empty-dirs --no-resave-data LimROTS StartedAt: 2025-11-02 17:36:21 -0500 (Sun, 02 Nov 2025) EndedAt: 2025-11-02 17:37:47 -0500 (Sun, 02 Nov 2025) EllapsedTime: 85.7 seconds RetCode: 0 Status: OK PackageFile: LimROTS_1.2.0.tar.gz PackageFileSize: 773.1 KiB