Package: LimROTS Version: 1.0.0 Command: rm -rf LimROTS.buildbin-libdir && mkdir LimROTS.buildbin-libdir && /Users/biocbuild/BBS/utils/build-universal.sh LimROTS_1.0.0.tar.gz /Library/Frameworks/R.framework/Resources/bin/R LimROTS.buildbin-libdir StartedAt: 2025-04-21 22:40:12 -0400 (Mon, 21 Apr 2025) EndedAt: 2025-04-21 22:40:24 -0400 (Mon, 21 Apr 2025) EllapsedTime: 11.3 seconds RetCode: 0 Status: OK PackageFile: LimROTS_1.0.0.tgz PackageFileSize: 835.8 KiB