Package: LRcell Version: 1.17.0 Command: rm -rf LRcell.buildbin-libdir && mkdir LRcell.buildbin-libdir && F:\biocbuild\bbs-3.22-bioc\R\bin\R.exe CMD INSTALL --build --library=LRcell.buildbin-libdir LRcell_1.17.0.tar.gz StartedAt: 2025-08-15 10:36:12 -0400 (Fri, 15 Aug 2025) EndedAt: 2025-08-15 10:36:45 -0400 (Fri, 15 Aug 2025) EllapsedTime: 32.7 seconds RetCode: 0 Status: OK PackageFile: LRcell_1.17.0.zip PackageFileSize: 776 KiB