Package: LRcell Version: 1.18.0 Command: /home/biocbuild/bbs-3.22-bioc/R/bin/R CMD INSTALL LRcell StartedAt: 2025-11-06 15:36:52 -0500 (Thu, 06 Nov 2025) EndedAt: 2025-11-06 15:37:10 -0500 (Thu, 06 Nov 2025) EllapsedTime: 17.5 seconds RetCode: 0 Status: OK