Package: LRcell Version: 1.18.0 Command: /home/biocbuild/bbs-3.22-bioc/R/bin/R CMD check --install=check:LRcell.install-out.txt --library=/home/biocbuild/bbs-3.22-bioc/R/site-library --timings LRcell_1.18.0.tar.gz StartedAt: 2025-11-07 00:57:51 -0500 (Fri, 07 Nov 2025) EndedAt: 2025-11-07 01:01:04 -0500 (Fri, 07 Nov 2025) EllapsedTime: 193.3 seconds RetCode: 0 Status: OK CheckDir: LRcell.Rcheck Warnings: 0