Package: LPE Version: 1.84.0 Command: rm -rf LPE.buildbin-libdir && mkdir LPE.buildbin-libdir && /Users/biocbuild/BBS/utils/build-universal.sh LPE_1.84.0.tar.gz /Library/Frameworks/R.framework/Resources/bin/R LPE.buildbin-libdir StartedAt: 2025-11-04 01:47:29 -0500 (Tue, 04 Nov 2025) EndedAt: 2025-11-04 01:47:35 -0500 (Tue, 04 Nov 2025) EllapsedTime: 5.8 seconds RetCode: 0 Status: OK PackageFile: LPE_1.84.0.tgz PackageFileSize: 511.2 KiB