Package: LOLA Version: 1.40.0 Command: /home/biocbuild/R/R/bin/R CMD INSTALL LOLA StartedAt: 2025-11-17 21:21:21 -0000 (Mon, 17 Nov 2025) EndedAt: 2025-11-17 21:21:35 -0000 (Mon, 17 Nov 2025) EllapsedTime: 14.4 seconds RetCode: 0 Status: OK