Package: LOLA Version: 1.40.0 Command: /home/biocbuild/R/R/bin/R CMD check --install=check:LOLA.install-out.txt --library=/home/biocbuild/R/R/site-library --no-vignettes --timings LOLA_1.40.0.tar.gz StartedAt: 2025-11-18 11:22:34 -0000 (Tue, 18 Nov 2025) EndedAt: 2025-11-18 11:24:16 -0000 (Tue, 18 Nov 2025) EllapsedTime: 102.1 seconds RetCode: 1 Status: ERROR CheckDir: LOLA.Rcheck Warnings: NA