Package: LOLA Version: 1.40.0 Command: /home/biocbuild/bbs-3.22-bioc/R/bin/R CMD INSTALL LOLA StartedAt: 2025-11-05 15:23:24 -0500 (Wed, 05 Nov 2025) EndedAt: 2025-11-05 15:23:33 -0500 (Wed, 05 Nov 2025) EllapsedTime: 9.8 seconds RetCode: 0 Status: OK