Package: LOLA Version: 1.40.0 Command: /Library/Frameworks/R.framework/Resources/bin/R CMD INSTALL LOLA StartedAt: 2025-10-31 15:14:19 -0400 (Fri, 31 Oct 2025) EndedAt: 2025-10-31 15:14:24 -0400 (Fri, 31 Oct 2025) EllapsedTime: 4.6 seconds RetCode: 0 Status: OK