Package: LOLA Version: 1.40.0 Command: /Library/Frameworks/R.framework/Resources/bin/R CMD check --install=check:LOLA.install-out.txt --library=/Library/Frameworks/R.framework/Resources/library --no-vignettes --timings LOLA_1.40.0.tar.gz StartedAt: 2025-10-31 20:31:52 -0400 (Fri, 31 Oct 2025) EndedAt: 2025-10-31 20:32:28 -0400 (Fri, 31 Oct 2025) EllapsedTime: 35.4 seconds RetCode: 0 Status: OK CheckDir: LOLA.Rcheck Warnings: 0