Package: LOBSTAHS Version: 1.35.1 Command: /home/biocbuild/R/R/bin/R CMD build --keep-empty-dirs --no-resave-data LOBSTAHS StartedAt: 2025-10-21 00:49:20 -0000 (Tue, 21 Oct 2025) EndedAt: 2025-10-21 00:50:45 -0000 (Tue, 21 Oct 2025) EllapsedTime: 85.0 seconds RetCode: 0 Status: OK PackageFile: LOBSTAHS_1.35.1.tar.gz PackageFileSize: 2.903 MiB