Package: LOBSTAHS Version: 1.35.1 Command: rm -rf LOBSTAHS.buildbin-libdir && mkdir LOBSTAHS.buildbin-libdir && F:\biocbuild\bbs-3.22-bioc\R\bin\R.exe CMD INSTALL --build --library=LOBSTAHS.buildbin-libdir LOBSTAHS_1.35.1.tar.gz StartedAt: 2025-08-15 10:35:51 -0400 (Fri, 15 Aug 2025) EndedAt: 2025-08-15 10:37:41 -0400 (Fri, 15 Aug 2025) EllapsedTime: 110.3 seconds RetCode: 0 Status: OK PackageFile: LOBSTAHS_1.35.1.zip PackageFileSize: 2.009 MiB