Package: LOBSTAHS Version: 1.36.0 Command: /home/biocbuild/bbs-3.22-bioc/R/bin/R CMD INSTALL LOBSTAHS StartedAt: 2025-11-09 15:47:19 -0500 (Sun, 09 Nov 2025) EndedAt: 2025-11-09 15:48:15 -0500 (Sun, 09 Nov 2025) EllapsedTime: 56.0 seconds RetCode: 0 Status: OK