Package: LBE Version: 1.76.0 Command: E:\biocbuild\bbs-3.21-bioc\R\bin\R.exe CMD check --no-multiarch --install=check:LBE.install-out.txt --library=E:\biocbuild\bbs-3.21-bioc\R\library --no-vignettes --timings LBE_1.76.0.tar.gz StartedAt: 2025-08-15 03:33:27 -0400 (Fri, 15 Aug 2025) EndedAt: 2025-08-15 03:33:56 -0400 (Fri, 15 Aug 2025) EllapsedTime: 29.3 seconds RetCode: 0 Status: OK CheckDir: LBE.Rcheck Warnings: 0