Package: LBE Version: 1.78.0 Command: /home/biocbuild/bbs-3.22-bioc/R/bin/R CMD INSTALL LBE StartedAt: 2025-11-16 15:03:51 -0500 (Sun, 16 Nov 2025) EndedAt: 2025-11-16 15:04:12 -0500 (Sun, 16 Nov 2025) EllapsedTime: 20.7 seconds RetCode: 0 Status: OK