Package: LBE Version: 1.78.0 Command: /home/biocbuild/bbs-3.22-bioc/R/bin/R CMD build --keep-empty-dirs --no-resave-data --md5 LBE StartedAt: 2025-11-16 18:28:56 -0500 (Sun, 16 Nov 2025) EndedAt: 2025-11-16 18:29:03 -0500 (Sun, 16 Nov 2025) EllapsedTime: 7.0 seconds RetCode: 0 Status: OK PackageFile: LBE_1.78.0.tar.gz PackageFileSize: 785.1 KiB