Package: KnowSeq Version: 1.23.0 Command: /home/biocbuild/R/R/bin/R CMD INSTALL KnowSeq StartedAt: 2025-10-23 20:49:13 -0000 (Thu, 23 Oct 2025) EndedAt: 2025-10-23 20:49:55 -0000 (Thu, 23 Oct 2025) EllapsedTime: 41.6 seconds RetCode: 0 Status: OK