Package: KnowSeq Version: 1.24.0 Command: /home/biocbuild/bbs-3.22-bioc/R/bin/R CMD check --install=check:KnowSeq.install-out.txt --library=/home/biocbuild/bbs-3.22-bioc/R/site-library --timings KnowSeq_1.24.0.tar.gz StartedAt: 2025-11-11 01:04:26 -0500 (Tue, 11 Nov 2025) EndedAt: 2025-11-11 01:11:08 -0500 (Tue, 11 Nov 2025) EllapsedTime: 401.5 seconds RetCode: 0 Status: OK CheckDir: KnowSeq.Rcheck Warnings: 0