Package: KEGGlincs Version: 1.36.0 Command: /Library/Frameworks/R.framework/Resources/bin/R CMD INSTALL KEGGlincs StartedAt: 2025-10-31 15:55:00 -0400 (Fri, 31 Oct 2025) EndedAt: 2025-10-31 15:55:24 -0400 (Fri, 31 Oct 2025) EllapsedTime: 24.1 seconds RetCode: 0 Status: OK