Package: KEGGlincs Version: 1.36.0 Command: /Library/Frameworks/R.framework/Resources/bin/R CMD check --install=check:KEGGlincs.install-out.txt --library=/Library/Frameworks/R.framework/Resources/library --no-vignettes --timings KEGGlincs_1.36.0.tar.gz StartedAt: 2025-11-03 22:05:45 -0500 (Mon, 03 Nov 2025) EndedAt: 2025-11-03 22:10:11 -0500 (Mon, 03 Nov 2025) EllapsedTime: 265.7 seconds RetCode: 0 Status: OK CheckDir: KEGGlincs.Rcheck Warnings: 0