Package: KEGGlincs Version: 1.36.0 Command: rm -rf KEGGlincs.buildbin-libdir && mkdir KEGGlincs.buildbin-libdir && /Users/biocbuild/BBS/utils/build-universal.sh KEGGlincs_1.36.0.tar.gz /Library/Frameworks/R.framework/Resources/bin/R KEGGlincs.buildbin-libdir StartedAt: 2025-11-01 01:40:35 -0400 (Sat, 01 Nov 2025) EndedAt: 2025-11-01 01:41:01 -0400 (Sat, 01 Nov 2025) EllapsedTime: 26.7 seconds RetCode: 0 Status: OK PackageFile: KEGGlincs_1.36.0.tgz PackageFileSize: 2.279 MiB