Package: KEGGgraph Version: 1.69.0 Command: F:\biocbuild\bbs-3.22-bioc\R\bin\R.exe CMD INSTALL KEGGgraph StartedAt: 2025-08-14 15:57:00 -0400 (Thu, 14 Aug 2025) EndedAt: 2025-08-14 15:57:51 -0400 (Thu, 14 Aug 2025) EllapsedTime: 50.6 seconds RetCode: 0 Status: OK