Package: KEGGREST Version: 1.48.1 Command: E:\biocbuild\bbs-3.21-bioc\R\bin\R.exe CMD INSTALL KEGGREST StartedAt: 2025-08-14 15:58:03 -0400 (Thu, 14 Aug 2025) EndedAt: 2025-08-14 15:58:25 -0400 (Thu, 14 Aug 2025) EllapsedTime: 22.4 seconds RetCode: 0 Status: OK