Package: KEGGREST Version: 1.48.1 Command: E:\biocbuild\bbs-3.21-bioc\R\bin\R.exe CMD check --no-multiarch --install=check:KEGGREST.install-out.txt --library=E:\biocbuild\bbs-3.21-bioc\R\library --no-vignettes --timings KEGGREST_1.48.1.tar.gz StartedAt: 2025-08-15 03:31:47 -0400 (Fri, 15 Aug 2025) EndedAt: 2025-08-15 03:35:31 -0400 (Fri, 15 Aug 2025) EllapsedTime: 223.6 seconds RetCode: 0 Status: OK CheckDir: KEGGREST.Rcheck Warnings: 0