Package: KEGGREST Version: 1.48.1 Command: rm -rf KEGGREST.buildbin-libdir && mkdir KEGGREST.buildbin-libdir && E:\biocbuild\bbs-3.21-bioc\R\bin\R.exe CMD INSTALL --build --library=KEGGREST.buildbin-libdir KEGGREST_1.48.1.tar.gz StartedAt: 2025-08-15 09:34:41 -0400 (Fri, 15 Aug 2025) EndedAt: 2025-08-15 09:35:03 -0400 (Fri, 15 Aug 2025) EllapsedTime: 22.4 seconds RetCode: 0 Status: OK PackageFile: KEGGREST_1.48.1.zip PackageFileSize: 400.9 KiB