Package: KEGGREST Version: 1.48.1 Command: /Library/Frameworks/R.framework/Resources/bin/R CMD INSTALL KEGGREST StartedAt: 2025-09-29 15:43:25 -0400 (Mon, 29 Sep 2025) EndedAt: 2025-09-29 15:43:47 -0400 (Mon, 29 Sep 2025) EllapsedTime: 22.2 seconds RetCode: 0 Status: OK