Package: KEGGREST Version: 1.48.1 Command: /Library/Frameworks/R.framework/Resources/bin/R CMD check --install=check:KEGGREST.install-out.txt --library=/Library/Frameworks/R.framework/Resources/library --no-vignettes --timings KEGGREST_1.48.1.tar.gz StartedAt: 2025-09-30 05:28:58 -0400 (Tue, 30 Sep 2025) EndedAt: 2025-09-30 05:34:09 -0400 (Tue, 30 Sep 2025) EllapsedTime: 310.4 seconds RetCode: 0 Status: OK CheckDir: KEGGREST.Rcheck Warnings: 0