Package: KEGGREST Version: 1.48.1 Command: rm -rf KEGGREST.buildbin-libdir && mkdir KEGGREST.buildbin-libdir && /Users/biocbuild/BBS/utils/build-universal.sh KEGGREST_1.48.1.tar.gz /Library/Frameworks/R.framework/Resources/bin/R KEGGREST.buildbin-libdir StartedAt: 2025-09-30 13:34:03 -0400 (Tue, 30 Sep 2025) EndedAt: 2025-09-30 13:34:37 -0400 (Tue, 30 Sep 2025) EllapsedTime: 34.5 seconds RetCode: 0 Status: OK PackageFile: KEGGREST_1.48.1.tgz PackageFileSize: 397.2 KiB