Package: KEGGREST Version: 1.48.0 Command: /Library/Frameworks/R.framework/Resources/bin/R CMD build --keep-empty-dirs --no-resave-data KEGGREST StartedAt: 2025-04-21 17:16:51 -0400 (Mon, 21 Apr 2025) EndedAt: 2025-04-21 17:17:30 -0400 (Mon, 21 Apr 2025) EllapsedTime: 38.9 seconds RetCode: 0 Status: OK PackageFile: KEGGREST_1.48.0.tar.gz PackageFileSize: 233.5 KiB