Package: KCsmart Version: 2.66.0 Command: /home/biocbuild/R/R/bin/R CMD INSTALL KCsmart StartedAt: 2025-10-13 20:24:33 -0000 (Mon, 13 Oct 2025) EndedAt: 2025-10-13 20:24:47 -0000 (Mon, 13 Oct 2025) EllapsedTime: 14.0 seconds RetCode: 0 Status: OK