Package: KCsmart Version: 2.66.0 Command: /home/biocbuild/R/R/bin/R CMD build --keep-empty-dirs --no-resave-data KCsmart StartedAt: 2025-10-14 01:57:26 -0000 (Tue, 14 Oct 2025) EndedAt: 2025-10-14 01:58:01 -0000 (Tue, 14 Oct 2025) EllapsedTime: 35.0 seconds RetCode: 0 Status: OK PackageFile: KCsmart_2.66.0.tar.gz PackageFileSize: 1.813 MiB