Package: KCsmart Version: 2.66.0 Command: /Library/Frameworks/R.framework/Resources/bin/R CMD INSTALL KCsmart StartedAt: 2025-10-02 15:37:03 -0400 (Thu, 02 Oct 2025) EndedAt: 2025-10-02 15:37:15 -0400 (Thu, 02 Oct 2025) EllapsedTime: 11.1 seconds RetCode: 0 Status: OK