Package: KCsmart Version: 2.66.0 Command: /Library/Frameworks/R.framework/Resources/bin/R CMD check --install=check:KCsmart.install-out.txt --library=/Library/Frameworks/R.framework/Resources/library --no-vignettes --timings KCsmart_2.66.0.tar.gz StartedAt: 2025-10-04 01:19:36 -0400 (Sat, 04 Oct 2025) EndedAt: 2025-10-04 01:21:17 -0400 (Sat, 04 Oct 2025) EllapsedTime: 101.0 seconds RetCode: 0 Status: WARNINGS CheckDir: KCsmart.Rcheck Warnings: 1