Package: KBoost Version: 1.17.0 Command: rm -rf KBoost.buildbin-libdir && mkdir KBoost.buildbin-libdir && F:\biocbuild\bbs-3.22-bioc\R\bin\R.exe CMD INSTALL --build --library=KBoost.buildbin-libdir KBoost_1.17.0.tar.gz StartedAt: 2025-08-15 10:33:31 -0400 (Fri, 15 Aug 2025) EndedAt: 2025-08-15 10:34:03 -0400 (Fri, 15 Aug 2025) EllapsedTime: 32.0 seconds RetCode: 0 Status: OK PackageFile: KBoost_1.17.0.zip PackageFileSize: 583.1 KiB