Package: KBoost Version: 1.18.0 Command: /home/biocbuild/bbs-3.22-bioc/R/bin/R CMD check --install=check:KBoost.install-out.txt --library=/home/biocbuild/bbs-3.22-bioc/R/site-library --timings KBoost_1.18.0.tar.gz StartedAt: 2025-11-07 00:48:24 -0500 (Fri, 07 Nov 2025) EndedAt: 2025-11-07 00:48:58 -0500 (Fri, 07 Nov 2025) EllapsedTime: 34.0 seconds RetCode: 0 Status: OK CheckDir: KBoost.Rcheck Warnings: 0