Package: IsoformSwitchAnalyzeR Version: 2.8.0 Command: E:\biocbuild\bbs-3.21-bioc\R\bin\R.exe CMD INSTALL IsoformSwitchAnalyzeR StartedAt: 2025-08-14 16:54:06 -0400 (Thu, 14 Aug 2025) EndedAt: 2025-08-14 16:58:04 -0400 (Thu, 14 Aug 2025) EllapsedTime: 238.2 seconds RetCode: 0 Status: OK