Package: IsoCorrectoRGUI Version: 1.25.0 Command: /home/biocbuild/R/R/bin/R CMD check --install=check:IsoCorrectoRGUI.install-out.txt --library=/home/biocbuild/R/R/site-library --no-vignettes --timings IsoCorrectoRGUI_1.25.0.tar.gz StartedAt: 2025-10-17 10:24:34 -0000 (Fri, 17 Oct 2025) EndedAt: 2025-10-17 10:25:10 -0000 (Fri, 17 Oct 2025) EllapsedTime: 36.0 seconds RetCode: 0 Status: OK CheckDir: IsoCorrectoRGUI.Rcheck Warnings: 0