Package: InteractiveComplexHeatmap Version: 1.18.0 Command: /home/biocbuild/R/R/bin/R CMD INSTALL InteractiveComplexHeatmap StartedAt: 2025-11-17 21:20:57 -0000 (Mon, 17 Nov 2025) EndedAt: 2025-11-17 21:21:14 -0000 (Mon, 17 Nov 2025) EllapsedTime: 17.7 seconds RetCode: 0 Status: OK